BEGIN:VCALENDAR
VERSION:2.0
PRODID:-//www.developmenthomes.org//NONSGML kigkonsult.se iCalcreator 2.30.
 10//
CALSCALE:GREGORIAN
METHOD:PUBLISH
UID:d5bd3eed-9612-4227-9689-77ac4b86a582
X-WR-CALDESC:Founders Room
X-WR-RELCALID:247bf6acd632d40c948ddef338eab029
X-WR-TIMEZONE:America/Chicago
BEGIN:VTIMEZONE
TZID:America/Chicago
BEGIN:STANDARD
TZNAME:CST
DTSTART:20271107T020000
TZOFFSETFROM:-0500
TZOFFSETTO:-0600
RDATE:20281105T020000
END:STANDARD
BEGIN:DAYLIGHT
TZNAME:CDT
DTSTART:20270314T020000
TZOFFSETFROM:-0600
TZOFFSETTO:-0500
RDATE:20280312T020000
RDATE:20290311T020000
END:DAYLIGHT
END:VTIMEZONE
BEGIN:VEVENT
UID:c8229bee-0f7d-41d6-8da7-d8dd45335ba1
DTSTAMP:20260421T232641Z
DESCRIPTION:Founders Room
DTSTART;TZID=America/Chicago:20280228T110000
DTEND;TZID=America/Chicago:20280228T123000
LOCATION:3880 South Columbia Road\, Grand Forks\, ND 58201 US
SUMMARY:Investment Committee
END:VEVENT
END:VCALENDAR
