BEGIN:VCALENDAR
VERSION:2.0
PRODID:-//www.developmenthomes.org//NONSGML kigkonsult.se iCalcreator 2.30.
 10//
CALSCALE:GREGORIAN
METHOD:PUBLISH
UID:36d2323c-2759-4fc2-ae1f-90639fdf1ab9
X-WR-CALDESC:
X-WR-RELCALID:4ed22d5b4bd175f2d4b51353d219fafd
X-WR-TIMEZONE:America/Chicago
BEGIN:VTIMEZONE
TZID:America/Chicago
BEGIN:STANDARD
TZNAME:CST
DTSTART:20271107T020000
TZOFFSETFROM:-0500
TZOFFSETTO:-0600
RDATE:20281105T020000
END:STANDARD
BEGIN:DAYLIGHT
TZNAME:CDT
DTSTART:20280312T020000
TZOFFSETFROM:-0600
TZOFFSETTO:-0500
RDATE:20290311T020000
END:DAYLIGHT
END:VTIMEZONE
BEGIN:VEVENT
UID:3bcae5df-49d5-417d-86dc-3c670b7e8870
DTSTAMP:20260422T005930Z
DESCRIPTION:
DTSTART;TZID=America/Chicago:20280328T174500
DTEND;TZID=America/Chicago:20280328T193000
LOCATION:3880 South Columbia Road\, Grand Forks\, ND 58201 US
SUMMARY:Gaming Committee
END:VEVENT
END:VCALENDAR
