BEGIN:VCALENDAR
VERSION:2.0
PRODID:-//www.developmenthomes.org//NONSGML kigkonsult.se iCalcreator 2.30.
 10//
CALSCALE:GREGORIAN
METHOD:PUBLISH
UID:f92a55e0-6b6c-4b0d-8900-dc6f61fe8d9e
X-WR-CALDESC:
X-WR-RELCALID:bf0c08645dcfd0434dac6145ba8f3c34
X-WR-TIMEZONE:America/Chicago
BEGIN:VTIMEZONE
TZID:America/Chicago
BEGIN:STANDARD
TZNAME:CST
DTSTART:20271107T020000
TZOFFSETFROM:-0500
TZOFFSETTO:-0600
RDATE:20281105T020000
END:STANDARD
BEGIN:DAYLIGHT
TZNAME:CDT
DTSTART:20280312T020000
TZOFFSETFROM:-0600
TZOFFSETTO:-0500
RDATE:20290311T020000
END:DAYLIGHT
END:VTIMEZONE
BEGIN:VEVENT
UID:cb701c67-ad42-47e4-acae-0f33f248a818
DTSTAMP:20260422T020640Z
DESCRIPTION:
DTSTART;TZID=America/Chicago:20280417T120000
DTEND;TZID=America/Chicago:20280417T130000
LOCATION:3880 South Columbia Road\, Grand Forks\, ND 58201 US
SUMMARY:Program Committee
END:VEVENT
END:VCALENDAR
