BEGIN:VCALENDAR
VERSION:2.0
PRODID:-//www.developmenthomes.org//NONSGML kigkonsult.se iCalcreator 2.30.
 10//
CALSCALE:GREGORIAN
METHOD:PUBLISH
UID:c01537d4-d672-43f3-a2d9-5f3511ca9498
X-WR-CALDESC:Founders Room
X-WR-RELCALID:68484a35e400268cc1ade204581ec117
X-WR-TIMEZONE:America/Chicago
BEGIN:VTIMEZONE
TZID:America/Chicago
BEGIN:STANDARD
TZNAME:CST
DTSTART:20271107T020000
TZOFFSETFROM:-0500
TZOFFSETTO:-0600
RDATE:20281105T020000
END:STANDARD
BEGIN:DAYLIGHT
TZNAME:CDT
DTSTART:20280312T020000
TZOFFSETFROM:-0600
TZOFFSETTO:-0500
RDATE:20290311T020000
END:DAYLIGHT
END:VTIMEZONE
BEGIN:VEVENT
UID:745bfd0f-6706-41f7-8756-9cf82997c817
DTSTAMP:20260422T022610Z
DESCRIPTION:Founders Room
DTSTART;TZID=America/Chicago:20280424T110000
DTEND;TZID=America/Chicago:20280424T123000
LOCATION:3880 South Columbia Road\, Grand Forks\, ND 58201 US
SUMMARY:Investment Committee
END:VEVENT
END:VCALENDAR
