BEGIN:VCALENDAR
VERSION:2.0
PRODID:-//www.developmenthomes.org//NONSGML kigkonsult.se iCalcreator 2.30.
 10//
CALSCALE:GREGORIAN
METHOD:PUBLISH
UID:e4b122e2-83a0-457b-ac3f-0a5502e091d0
X-WR-CALDESC:
X-WR-RELCALID:23a33d1229c2458c3e25810e191c136a
X-WR-TIMEZONE:America/Chicago
BEGIN:VTIMEZONE
TZID:America/Chicago
BEGIN:STANDARD
TZNAME:CST
DTSTART:20271107T020000
TZOFFSETFROM:-0500
TZOFFSETTO:-0600
RDATE:20281105T020000
RDATE:20291104T020000
END:STANDARD
BEGIN:DAYLIGHT
TZNAME:CDT
DTSTART:20280312T020000
TZOFFSETFROM:-0600
TZOFFSETTO:-0500
RDATE:20290311T020000
END:DAYLIGHT
END:VTIMEZONE
BEGIN:VEVENT
UID:8bae64c4-e756-4aff-9d76-3f4da7f07d60
DTSTAMP:20260422T064300Z
DESCRIPTION:
DTSTART;TZID=America/Chicago:20280710T120000
DTEND;TZID=America/Chicago:20280710T130000
LOCATION:3880 South Columbia Road\, Grand Forks\, ND 58201 US
SUMMARY:HR Committe
END:VEVENT
END:VCALENDAR
