BEGIN:VCALENDAR
VERSION:2.0
PRODID:-//www.developmenthomes.org//NONSGML kigkonsult.se iCalcreator 2.30.
 10//
CALSCALE:GREGORIAN
METHOD:PUBLISH
UID:9f8d0bea-3645-4d8b-93b8-d25e72e424df
X-WR-CALDESC:
X-WR-RELCALID:622827cfa8940df9e23c21161e792c5b
X-WR-TIMEZONE:America/Chicago
BEGIN:VTIMEZONE
TZID:America/Chicago
BEGIN:STANDARD
TZNAME:CST
DTSTART:20271107T020000
TZOFFSETFROM:-0500
TZOFFSETTO:-0600
RDATE:20281105T020000
RDATE:20291104T020000
END:STANDARD
BEGIN:DAYLIGHT
TZNAME:CDT
DTSTART:20280312T020000
TZOFFSETFROM:-0600
TZOFFSETTO:-0500
RDATE:20290311T020000
END:DAYLIGHT
END:VTIMEZONE
BEGIN:VEVENT
UID:b82342e0-2516-45ac-8564-f39d0264d0cf
DTSTAMP:20260422T064046Z
DESCRIPTION:
DTSTART;TZID=America/Chicago:20280724T120000
DTEND;TZID=America/Chicago:20280724T133000
LOCATION:3880 South Columbia Road\, Grand Forks\, ND 58201 US
SUMMARY:Executive Committee
END:VEVENT
END:VCALENDAR
