BEGIN:VCALENDAR
VERSION:2.0
PRODID:-//www.developmenthomes.org//NONSGML kigkonsult.se iCalcreator 2.30.
 10//
CALSCALE:GREGORIAN
METHOD:PUBLISH
UID:639dae34-a0f3-455a-9767-466e0caa72ad
X-WR-CALDESC:
X-WR-RELCALID:be5b0fdaf965d39cd3a9b6f8fe0c61e4
X-WR-TIMEZONE:America/Chicago
BEGIN:VTIMEZONE
TZID:America/Chicago
BEGIN:STANDARD
TZNAME:CST
DTSTART:20281105T020000
TZOFFSETFROM:-0500
TZOFFSETTO:-0600
RDATE:20291104T020000
END:STANDARD
BEGIN:DAYLIGHT
TZNAME:CDT
DTSTART:20280312T020000
TZOFFSETFROM:-0600
TZOFFSETTO:-0500
RDATE:20290311T020000
RDATE:20300310T020000
END:DAYLIGHT
END:VTIMEZONE
BEGIN:VEVENT
UID:291fa59e-d39f-4b3a-8307-86ff3d7d4655
DTSTAMP:20260422T133252Z
DESCRIPTION:
DTSTART;TZID=America/Chicago:20281127T120000
DTEND;TZID=America/Chicago:20281127T133000
LOCATION:3880 South Columbia Road\, Grand Forks\, ND 58201 US
SUMMARY:Executive Committee
END:VEVENT
END:VCALENDAR
