BEGIN:VCALENDAR
VERSION:2.0
PRODID:-//www.developmenthomes.org//NONSGML kigkonsult.se iCalcreator 2.30.
 10//
CALSCALE:GREGORIAN
METHOD:PUBLISH
UID:f6347462-9861-4d66-8da8-dada8d628174
X-WR-CALDESC:
X-WR-RELCALID:a04a48ab5d3f9d5a9ca19fdecbf568b0
X-WR-TIMEZONE:America/Chicago
BEGIN:VTIMEZONE
TZID:America/Chicago
BEGIN:STANDARD
TZNAME:CST
DTSTART:20281105T020000
TZOFFSETFROM:-0500
TZOFFSETTO:-0600
RDATE:20291104T020000
END:STANDARD
BEGIN:DAYLIGHT
TZNAME:CDT
DTSTART:20280312T020000
TZOFFSETFROM:-0600
TZOFFSETTO:-0500
RDATE:20290311T020000
RDATE:20300310T020000
END:DAYLIGHT
END:VTIMEZONE
BEGIN:VEVENT
UID:d531a4da-e89f-454b-9e3d-68465086d45c
DTSTAMP:20260422T133558Z
DESCRIPTION:
DTSTART;TZID=America/Chicago:20281128T174500
DTEND;TZID=America/Chicago:20281128T193000
LOCATION:3880 South Columbia Road\, Grand Forks\, ND 58201 US
SUMMARY:Gaming Committee
END:VEVENT
END:VCALENDAR
