BEGIN:VCALENDAR
VERSION:2.0
PRODID:-//www.developmenthomes.org//NONSGML kigkonsult.se iCalcreator 2.30.
 10//
CALSCALE:GREGORIAN
METHOD:PUBLISH
UID:5b174864-0059-434c-9540-2d74e2d524d0
X-WR-CALDESC:
X-WR-RELCALID:2b017a49670ecb938661d42f61091c55
X-WR-TIMEZONE:America/Chicago
BEGIN:VTIMEZONE
TZID:America/Chicago
BEGIN:STANDARD
TZNAME:CST
DTSTART:20281105T020000
TZOFFSETFROM:-0500
TZOFFSETTO:-0600
RDATE:20291104T020000
END:STANDARD
BEGIN:DAYLIGHT
TZNAME:CDT
DTSTART:20280312T020000
TZOFFSETFROM:-0600
TZOFFSETTO:-0500
RDATE:20290311T020000
RDATE:20300310T020000
END:DAYLIGHT
END:VTIMEZONE
BEGIN:VEVENT
UID:76b42f7e-d995-40d2-ae38-b91a8ea52672
DTSTAMP:20260422T144320Z
DESCRIPTION:
DTSTART;TZID=America/Chicago:20281226T174500
DTEND;TZID=America/Chicago:20281226T193000
LOCATION:3880 South Columbia Road\, Grand Forks\, ND 58201 US
SUMMARY:Gaming Committee
END:VEVENT
END:VCALENDAR
