BEGIN:VCALENDAR
VERSION:2.0
PRODID:-//www.developmenthomes.org//NONSGML kigkonsult.se iCalcreator 2.30.
 10//
CALSCALE:GREGORIAN
METHOD:PUBLISH
UID:72e2126b-61fb-4d10-a117-5318e9316c22
X-WR-CALDESC:
X-WR-RELCALID:734a72b6f4b923fe7dd1bfd3168f5c71
X-WR-TIMEZONE:America/Chicago
BEGIN:VTIMEZONE
TZID:America/Chicago
BEGIN:STANDARD
TZNAME:CST
DTSTART:20281105T020000
TZOFFSETFROM:-0500
TZOFFSETTO:-0600
RDATE:20291104T020000
END:STANDARD
BEGIN:DAYLIGHT
TZNAME:CDT
DTSTART:20280312T020000
TZOFFSETFROM:-0600
TZOFFSETTO:-0500
RDATE:20290311T020000
RDATE:20300310T020000
END:DAYLIGHT
END:VTIMEZONE
BEGIN:VEVENT
UID:3465536f-3ec9-4b6d-b8cc-2772932c487e
DTSTAMP:20260422T182909Z
DESCRIPTION:
DTSTART;TZID=America/Chicago:20290219T120000
DTEND;TZID=America/Chicago:20290219T130000
LOCATION:3880 South Columbia Road\, Grand Forks\, ND 58201 US
SUMMARY:Program Committee
END:VEVENT
END:VCALENDAR
