BEGIN:VCALENDAR
VERSION:2.0
PRODID:-//www.developmenthomes.org//NONSGML kigkonsult.se iCalcreator 2.30.
 10//
CALSCALE:GREGORIAN
METHOD:PUBLISH
UID:6898caf0-57d8-4341-977b-bd4a80f5e59d
X-WR-CALDESC:
X-WR-RELCALID:56ad474dea920263bba7565df6d5ece2
X-WR-TIMEZONE:America/Chicago
BEGIN:VTIMEZONE
TZID:America/Chicago
BEGIN:STANDARD
TZNAME:CST
DTSTART:20281105T020000
TZOFFSETFROM:-0500
TZOFFSETTO:-0600
RDATE:20291104T020000
END:STANDARD
BEGIN:DAYLIGHT
TZNAME:CDT
DTSTART:20280312T020000
TZOFFSETFROM:-0600
TZOFFSETTO:-0500
RDATE:20290311T020000
RDATE:20300310T020000
END:DAYLIGHT
END:VTIMEZONE
BEGIN:VEVENT
UID:16efb9d2-a730-48c2-93e7-535e1ff78b55
DTSTAMP:20260422T180822Z
DESCRIPTION:
DTSTART;TZID=America/Chicago:20290226T120000
DTEND;TZID=America/Chicago:20290226T133000
LOCATION:3880 South Columbia Road\, Grand Forks\, ND 58201 US
SUMMARY:Executive Committee
END:VEVENT
END:VCALENDAR
