BEGIN:VCALENDAR
VERSION:2.0
PRODID:-//www.developmenthomes.org//NONSGML kigkonsult.se iCalcreator 2.30.
 10//
CALSCALE:GREGORIAN
METHOD:PUBLISH
UID:584b63cc-e9f2-4102-a2b7-b4759de08cc4
X-WR-CALDESC:
X-WR-RELCALID:5bd941a322c31273c29bc1e6e20e26a2
X-WR-TIMEZONE:America/Chicago
BEGIN:VTIMEZONE
TZID:America/Chicago
BEGIN:STANDARD
TZNAME:CST
DTSTART:20281105T020000
TZOFFSETFROM:-0500
TZOFFSETTO:-0600
RDATE:20291104T020000
END:STANDARD
BEGIN:DAYLIGHT
TZNAME:CDT
DTSTART:20290311T020000
TZOFFSETFROM:-0600
TZOFFSETTO:-0500
RDATE:20300310T020000
END:DAYLIGHT
END:VTIMEZONE
BEGIN:VEVENT
UID:a2466ca8-ae54-43c3-bcee-aa28a0ef75dd
DTSTAMP:20260422T212342Z
DESCRIPTION:
DTSTART;TZID=America/Chicago:20290423T120000
DTEND;TZID=America/Chicago:20290423T133000
LOCATION:3880 South Columbia Road\, Grand Forks\, ND 58201 US
SUMMARY:Executive Committee
END:VEVENT
END:VCALENDAR
