BEGIN:VCALENDAR
VERSION:2.0
PRODID:-//www.developmenthomes.org//NONSGML kigkonsult.se iCalcreator 2.30.
 10//
CALSCALE:GREGORIAN
METHOD:PUBLISH
UID:0678617d-abcb-43c6-a309-d7ff3c2a3ca1
X-WR-CALDESC:
X-WR-RELCALID:5a0fd0ba4f7631b80f2a9de7530f06d2
X-WR-TIMEZONE:America/Chicago
BEGIN:VTIMEZONE
TZID:America/Chicago
BEGIN:STANDARD
TZNAME:CST
DTSTART:20281105T020000
TZOFFSETFROM:-0500
TZOFFSETTO:-0600
RDATE:20291104T020000
RDATE:20301103T020000
END:STANDARD
BEGIN:DAYLIGHT
TZNAME:CDT
DTSTART:20290311T020000
TZOFFSETFROM:-0600
TZOFFSETTO:-0500
RDATE:20300310T020000
RDATE:20310309T020000
END:DAYLIGHT
END:VTIMEZONE
BEGIN:VEVENT
UID:ffd2d97c-b341-4b20-82e7-e613c0ac94ca
DTSTAMP:20260423T042428Z
DESCRIPTION:
DTSTART;TZID=America/Chicago:20290907T120000
DTEND;TZID=America/Chicago:20290907T130000
LOCATION:3880 South Columbia Road\, Grand Forks\, ND 58201 US
SUMMARY:Envision Committee
END:VEVENT
END:VCALENDAR
