BEGIN:VCALENDAR
VERSION:2.0
PRODID:-//www.developmenthomes.org//NONSGML kigkonsult.se iCalcreator 2.30.
 10//
CALSCALE:GREGORIAN
METHOD:PUBLISH
UID:b98b6958-a2b6-4e5a-a884-47fb7358b8eb
X-WR-CALDESC:
X-WR-RELCALID:14fad5abe8d6522664bcc1b6dc56b99b
X-WR-TIMEZONE:America/Chicago
BEGIN:VTIMEZONE
TZID:America/Chicago
BEGIN:STANDARD
TZNAME:CST
DTSTART:20291104T020000
TZOFFSETFROM:-0500
TZOFFSETTO:-0600
RDATE:20301103T020000
END:STANDARD
BEGIN:DAYLIGHT
TZNAME:CDT
DTSTART:20290311T020000
TZOFFSETFROM:-0600
TZOFFSETTO:-0500
RDATE:20300310T020000
RDATE:20310309T020000
END:DAYLIGHT
END:VTIMEZONE
BEGIN:VEVENT
UID:b589c604-3f1e-4d5c-bc40-2f98db452e16
DTSTAMP:20260423T073222Z
DESCRIPTION:
DTSTART;TZID=America/Chicago:20291112T120000
DTEND;TZID=America/Chicago:20291112T130000
LOCATION:3880 South Columbia Road\, Grand Forks\, ND 58201 US
SUMMARY:HR Committe
END:VEVENT
END:VCALENDAR
