BEGIN:VCALENDAR
VERSION:2.0
PRODID:-//www.developmenthomes.org//NONSGML kigkonsult.se iCalcreator 2.30.
 10//
CALSCALE:GREGORIAN
METHOD:PUBLISH
UID:0c7f421b-b49d-46e7-a404-ea463f51978f
X-WR-CALDESC:Founders Room
X-WR-RELCALID:2f19a9e533f671330832dd6a11bd84e5
X-WR-TIMEZONE:America/Chicago
BEGIN:VTIMEZONE
TZID:America/Chicago
BEGIN:STANDARD
TZNAME:CST
DTSTART:20291104T020000
TZOFFSETFROM:-0500
TZOFFSETTO:-0600
RDATE:20301103T020000
END:STANDARD
BEGIN:DAYLIGHT
TZNAME:CDT
DTSTART:20290311T020000
TZOFFSETFROM:-0600
TZOFFSETTO:-0500
RDATE:20300310T020000
RDATE:20310309T020000
END:DAYLIGHT
END:VTIMEZONE
BEGIN:VEVENT
UID:4a42a57e-f6e7-4bd0-9fbb-a5e710997934
DTSTAMP:20260423T084448Z
DESCRIPTION:Founders Room
DTSTART;TZID=America/Chicago:20291224T110000
DTEND;TZID=America/Chicago:20291224T123000
LOCATION:3880 South Columbia Road\, Grand Forks\, ND 58201 US
SUMMARY:Investment Committee
END:VEVENT
END:VCALENDAR
