BEGIN:VCALENDAR
VERSION:2.0
PRODID:-//www.developmenthomes.org//NONSGML kigkonsult.se iCalcreator 2.30.
 10//
CALSCALE:GREGORIAN
METHOD:PUBLISH
UID:13c33902-b81e-46f4-9e0d-9b1117d6a339
X-WR-CALDESC:
X-WR-RELCALID:d3c9d953c82e43b4416e68c9a1099cd9
X-WR-TIMEZONE:America/Chicago
BEGIN:VTIMEZONE
TZID:America/Chicago
BEGIN:STANDARD
TZNAME:CST
DTSTART:20291104T020000
TZOFFSETFROM:-0500
TZOFFSETTO:-0600
RDATE:20301103T020000
END:STANDARD
BEGIN:DAYLIGHT
TZNAME:CDT
DTSTART:20290311T020000
TZOFFSETFROM:-0600
TZOFFSETTO:-0500
RDATE:20300310T020000
RDATE:20310309T020000
END:DAYLIGHT
END:VTIMEZONE
BEGIN:VEVENT
UID:73a3f185-2b7a-4a9e-aeac-7c02d5ecf7ef
DTSTAMP:20260423T111153Z
DESCRIPTION:
DTSTART;TZID=America/Chicago:20300114T120000
DTEND;TZID=America/Chicago:20300114T130000
LOCATION:3880 South Columbia Road\, Grand Forks\, ND 58201 US
SUMMARY:HR Committe
END:VEVENT
END:VCALENDAR
