BEGIN:VCALENDAR
VERSION:2.0
PRODID:-//www.developmenthomes.org//NONSGML kigkonsult.se iCalcreator 2.30.
 10//
CALSCALE:GREGORIAN
METHOD:PUBLISH
UID:b557cf82-483f-46c7-b316-6768b9738486
X-WR-CALDESC:Founders Room
X-WR-RELCALID:447fa5de9d95885847adee03acf2cb98
X-WR-TIMEZONE:America/Chicago
BEGIN:VTIMEZONE
TZID:America/Chicago
BEGIN:STANDARD
TZNAME:CST
DTSTART:20291104T020000
TZOFFSETFROM:-0500
TZOFFSETTO:-0600
RDATE:20301103T020000
END:STANDARD
BEGIN:DAYLIGHT
TZNAME:CDT
DTSTART:20290311T020000
TZOFFSETFROM:-0600
TZOFFSETTO:-0500
RDATE:20300310T020000
RDATE:20310309T020000
END:DAYLIGHT
END:VTIMEZONE
BEGIN:VEVENT
UID:39d8125e-9c4d-41b3-ad07-7358ddb09576
DTSTAMP:20260423T115945Z
DESCRIPTION:Founders Room
DTSTART;TZID=America/Chicago:20300225T110000
DTEND;TZID=America/Chicago:20300225T123000
LOCATION:3880 South Columbia Road\, Grand Forks\, ND 58201 US
SUMMARY:Investment Committee
END:VEVENT
END:VCALENDAR
