BEGIN:VCALENDAR
VERSION:2.0
PRODID:-//www.developmenthomes.org//NONSGML kigkonsult.se iCalcreator 2.30.
 10//
CALSCALE:GREGORIAN
METHOD:PUBLISH
UID:f2ba3699-69d9-4cbd-8e9f-318744e04a0c
X-WR-CALDESC:
X-WR-RELCALID:7a0476e534cbb7dec4be559ebf464e7d
X-WR-TIMEZONE:America/Chicago
BEGIN:VTIMEZONE
TZID:America/Chicago
BEGIN:STANDARD
TZNAME:CST
DTSTART:20291104T020000
TZOFFSETFROM:-0500
TZOFFSETTO:-0600
RDATE:20301103T020000
END:STANDARD
BEGIN:DAYLIGHT
TZNAME:CDT
DTSTART:20290311T020000
TZOFFSETFROM:-0600
TZOFFSETTO:-0500
RDATE:20300310T020000
RDATE:20310309T020000
END:DAYLIGHT
END:VTIMEZONE
BEGIN:VEVENT
UID:3504d1cb-e2f3-4e8f-b1db-915604a7a213
DTSTAMP:20260423T131614Z
DESCRIPTION:
DTSTART;TZID=America/Chicago:20300311T120000
DTEND;TZID=America/Chicago:20300311T130000
LOCATION:3880 South Columbia Road\, Grand Forks\, ND 58201 US
SUMMARY:HR Committe
END:VEVENT
END:VCALENDAR
