BEGIN:VCALENDAR
VERSION:2.0
PRODID:-//www.developmenthomes.org//NONSGML kigkonsult.se iCalcreator 2.30.
 10//
CALSCALE:GREGORIAN
METHOD:PUBLISH
UID:7de99a0d-16d1-4d4f-9d93-18184c809c70
X-WR-CALDESC:
X-WR-RELCALID:281a19d776d61a0c55210eff851ba2c2
X-WR-TIMEZONE:America/Chicago
BEGIN:VTIMEZONE
TZID:America/Chicago
BEGIN:STANDARD
TZNAME:CST
DTSTART:20291104T020000
TZOFFSETFROM:-0500
TZOFFSETTO:-0600
RDATE:20301103T020000
END:STANDARD
BEGIN:DAYLIGHT
TZNAME:CDT
DTSTART:20300310T020000
TZOFFSETFROM:-0600
TZOFFSETTO:-0500
RDATE:20310309T020000
END:DAYLIGHT
END:VTIMEZONE
BEGIN:VEVENT
UID:924aa4ad-ac49-4f39-960e-18a1c025f96d
DTSTAMP:20260423T131630Z
DESCRIPTION:
DTSTART;TZID=America/Chicago:20300326T190000
DTEND;TZID=America/Chicago:20300326T210000
LOCATION:3880 South Columbia Road\, Grand Forks\, ND 58201 US
SUMMARY:Full Board
END:VEVENT
END:VCALENDAR
