BEGIN:VCALENDAR
VERSION:2.0
PRODID:-//www.developmenthomes.org//NONSGML kigkonsult.se iCalcreator 2.30.
 10//
CALSCALE:GREGORIAN
METHOD:PUBLISH
UID:cfdb6960-1bde-4f88-a0fa-ac6a14bd8ec5
X-WR-CALDESC:
X-WR-RELCALID:cfc4d188a689e3a2b6236c909a045e14
X-WR-TIMEZONE:America/Chicago
BEGIN:VTIMEZONE
TZID:America/Chicago
BEGIN:STANDARD
TZNAME:CST
DTSTART:20291104T020000
TZOFFSETFROM:-0500
TZOFFSETTO:-0600
RDATE:20301103T020000
RDATE:20311102T020000
END:STANDARD
BEGIN:DAYLIGHT
TZNAME:CDT
DTSTART:20300310T020000
TZOFFSETFROM:-0600
TZOFFSETTO:-0500
RDATE:20310309T020000
END:DAYLIGHT
END:VTIMEZONE
BEGIN:VEVENT
UID:006385b9-0d14-4e4c-ab6c-a8260d70dac4
DTSTAMP:20260423T155930Z
DESCRIPTION:
DTSTART;TZID=America/Chicago:20300520T120000
DTEND;TZID=America/Chicago:20300520T130000
LOCATION:3880 South Columbia Road\, Grand Forks\, ND 58201 US
SUMMARY:Program Committee
END:VEVENT
END:VCALENDAR
