BEGIN:VCALENDAR
VERSION:2.0
PRODID:-//www.developmenthomes.org//NONSGML kigkonsult.se iCalcreator 2.30.
 10//
CALSCALE:GREGORIAN
METHOD:PUBLISH
UID:b490970d-2e3a-4c7d-85ae-5f80b13acf33
X-WR-CALDESC:
X-WR-RELCALID:1f9f25777146558641c65c325877b3ac
X-WR-TIMEZONE:America/Chicago
BEGIN:VTIMEZONE
TZID:America/Chicago
BEGIN:STANDARD
TZNAME:CST
DTSTART:20291104T020000
TZOFFSETFROM:-0500
TZOFFSETTO:-0600
RDATE:20301103T020000
RDATE:20311102T020000
END:STANDARD
BEGIN:DAYLIGHT
TZNAME:CDT
DTSTART:20300310T020000
TZOFFSETFROM:-0600
TZOFFSETTO:-0500
RDATE:20310309T020000
END:DAYLIGHT
END:VTIMEZONE
BEGIN:VEVENT
UID:7da8280a-4e4e-4193-b1bb-ee55ddf55a3a
DTSTAMP:20260423T160220Z
DESCRIPTION:
DTSTART;TZID=America/Chicago:20300528T190000
DTEND;TZID=America/Chicago:20300528T210000
LOCATION:3880 South Columbia Road\, Grand Forks\, ND 58201 US
SUMMARY:Full Board
END:VEVENT
END:VCALENDAR
