BEGIN:VCALENDAR
VERSION:2.0
PRODID:-//www.developmenthomes.org//NONSGML kigkonsult.se iCalcreator 2.30.
 10//
CALSCALE:GREGORIAN
METHOD:PUBLISH
UID:b3a5d628-0295-42cf-8d90-3af6c75bc932
X-WR-CALDESC:
X-WR-RELCALID:d6bb5b2ef03847e395424e02dac03714
X-WR-TIMEZONE:America/Chicago
BEGIN:VTIMEZONE
TZID:America/Chicago
BEGIN:STANDARD
TZNAME:CST
DTSTART:20291104T020000
TZOFFSETFROM:-0500
TZOFFSETTO:-0600
RDATE:20301103T020000
RDATE:20311102T020000
END:STANDARD
BEGIN:DAYLIGHT
TZNAME:CDT
DTSTART:20300310T020000
TZOFFSETFROM:-0600
TZOFFSETTO:-0500
RDATE:20310309T020000
END:DAYLIGHT
END:VTIMEZONE
BEGIN:VEVENT
UID:b60c8439-ba3e-4692-a964-2d93b5e779c2
DTSTAMP:20260423T214919Z
DESCRIPTION:
DTSTART;TZID=America/Chicago:20300906T120000
DTEND;TZID=America/Chicago:20300906T130000
LOCATION:3880 South Columbia Road\, Grand Forks\, ND 58201 US
SUMMARY:Envision Committee
END:VEVENT
END:VCALENDAR
