BEGIN:VCALENDAR
VERSION:2.0
PRODID:-//www.developmenthomes.org//NONSGML kigkonsult.se iCalcreator 2.30.
 10//
CALSCALE:GREGORIAN
METHOD:PUBLISH
UID:43f59f34-d531-4fdc-8918-a87f5e0a8548
X-WR-CALDESC:
X-WR-RELCALID:5a2da2b79d9b7ccf5b3ab321cde9ab72
X-WR-TIMEZONE:America/Chicago
BEGIN:VTIMEZONE
TZID:America/Chicago
BEGIN:STANDARD
TZNAME:CST
DTSTART:20291104T020000
TZOFFSETFROM:-0500
TZOFFSETTO:-0600
RDATE:20301103T020000
RDATE:20311102T020000
END:STANDARD
BEGIN:DAYLIGHT
TZNAME:CDT
DTSTART:20300310T020000
TZOFFSETFROM:-0600
TZOFFSETTO:-0500
RDATE:20310309T020000
RDATE:20320314T020000
END:DAYLIGHT
END:VTIMEZONE
BEGIN:VEVENT
UID:491645ed-c41d-4fa7-87d8-8b606a18ce3b
DTSTAMP:20260423T231612Z
DESCRIPTION:
DTSTART;TZID=America/Chicago:20301028T120000
DTEND;TZID=America/Chicago:20301028T133000
LOCATION:3880 South Columbia Road\, Grand Forks\, ND 58201 US
SUMMARY:Executive Committee
END:VEVENT
END:VCALENDAR
